BEGIN:VCALENDAR
VERSION:2.0
PRODID:-//Sinai Temple - Cybermitzvah - ECPv5.16.4//NONSGML v1.0//EN
CALSCALE:GREGORIAN
METHOD:PUBLISH
X-WR-CALNAME:Sinai Temple - Cybermitzvah
X-ORIGINAL-URL:https://cybermitzvah.sinaitemple.org
X-WR-CALDESC:Events for Sinai Temple - Cybermitzvah
BEGIN:VTIMEZONE
TZID:America/Los_Angeles
BEGIN:DAYLIGHT
TZOFFSETFROM:-0800
TZOFFSETTO:-0700
TZNAME:PDT
DTSTART:20190310T100000
END:DAYLIGHT
BEGIN:STANDARD
TZOFFSETFROM:-0700
TZOFFSETTO:-0800
TZNAME:PST
DTSTART:20191103T090000
END:STANDARD
END:VTIMEZONE
BEGIN:VEVENT
DTSTART;TZID=America/Los_Angeles:20190220T080000
DTEND;TZID=America/Los_Angeles:20190220T170000
DTSTAMP:20260423T042432
CREATED:20190213T182004Z
LAST-MODIFIED:20190213T182004Z
UID:2344-1550649600-1550682000@cybermitzvah.sinaitemple.org
SUMMARY:Mr. Cohen out of office
DESCRIPTION:Mr. Cohen is offering makeup lessons on Sunday\, February 17. Please contact Sarah to schedule.
URL:https://cybermitzvah.sinaitemple.org/event/mr-cohen-out-of-office-4/
CATEGORIES:Mentor Out of Office
ATTACH;FMTTYPE=image/jpeg:https://cybermitzvah.sinaitemple.org/wp-content/uploads/2018/10/aryell-cohen.jpg
END:VEVENT
END:VCALENDAR