BEGIN:VCALENDAR
VERSION:2.0
PRODID:-//Sinai Temple - Cybermitzvah - ECPv5.16.4//NONSGML v1.0//EN
CALSCALE:GREGORIAN
METHOD:PUBLISH
X-WR-CALNAME:Sinai Temple - Cybermitzvah
X-ORIGINAL-URL:https://cybermitzvah.sinaitemple.org
X-WR-CALDESC:Events for Sinai Temple - Cybermitzvah
BEGIN:VTIMEZONE
TZID:America/Los_Angeles
BEGIN:DAYLIGHT
TZOFFSETFROM:-0800
TZOFFSETTO:-0700
TZNAME:PDT
DTSTART:20180311T100000
END:DAYLIGHT
BEGIN:STANDARD
TZOFFSETFROM:-0700
TZOFFSETTO:-0800
TZNAME:PST
DTSTART:20181104T090000
END:STANDARD
END:VTIMEZONE
BEGIN:VEVENT
DTSTART;TZID=America/Los_Angeles:20181209T160000
DTEND;TZID=America/Los_Angeles:20181209T190000
DTSTAMP:20260421T085852
CREATED:20181116T000619Z
LAST-MODIFIED:20181127T182927Z
UID:2048-1544371200-1544382000@cybermitzvah.sinaitemple.org
SUMMARY:Hanukkah In Song: Celebrate The Festival Of Lights With Music
DESCRIPTION:Get in the holiday spirit! Enjoy musical selections by Cantor Marcus Feldman\, Cantorial Intern David Childs\, Organist/Choir Director Aryell Cohen\, the Jewish Community Children’s Choir & Sinai Temple’s Youth Choir. Enjoy sweet treats directly following the concert! \nR.S.V.P by 12/7 at: member.sinaitemple.org/events
URL:https://cybermitzvah.sinaitemple.org/event/hanukkah-in-song/
LOCATION:Ziegler Hall
CATEGORIES:Events Parents Should Know About
ATTACH;FMTTYPE=image/jpeg:https://cybermitzvah.sinaitemple.org/wp-content/uploads/2018/11/Hanukiah.jpg
END:VEVENT
END:VCALENDAR