BEGIN:VCALENDAR
VERSION:2.0
PRODID:-//Sinai Temple - Cybermitzvah - ECPv5.16.4//NONSGML v1.0//EN
CALSCALE:GREGORIAN
METHOD:PUBLISH
X-WR-CALNAME:Sinai Temple - Cybermitzvah
X-ORIGINAL-URL:https://cybermitzvah.sinaitemple.org
X-WR-CALDESC:Events for Sinai Temple - Cybermitzvah
BEGIN:VTIMEZONE
TZID:America/Los_Angeles
BEGIN:DAYLIGHT
TZOFFSETFROM:-0800
TZOFFSETTO:-0700
TZNAME:PDT
DTSTART:20180311T100000
END:DAYLIGHT
BEGIN:STANDARD
TZOFFSETFROM:-0700
TZOFFSETTO:-0800
TZNAME:PST
DTSTART:20181104T090000
END:STANDARD
END:VTIMEZONE
BEGIN:VEVENT
DTSTART;TZID=America/Los_Angeles:20181130T174500
DTEND;TZID=America/Los_Angeles:20181130T210000
DTSTAMP:20260423T021234
CREATED:20181009T233324Z
LAST-MODIFIED:20181116T002224Z
UID:561-1543599900-1543611600@cybermitzvah.sinaitemple.org
SUMMARY:Community Shabbat Service & Dinner: Music of the Classical European & American Songbook
DESCRIPTION:Join us for a musical Shabbat service with Cantor Marcus Feldman and the Los Angles Zimriyah Chorale\, directed by Dr. Nick Strimple. For more information and to RSVP\, call (310) 481-3228.
URL:https://cybermitzvah.sinaitemple.org/event/community-shabbat-service-dinner-music-of-the-classical-european-american-songbook/
CATEGORIES:Events Parents Should Know About
ATTACH;FMTTYPE=image/jpeg:https://cybermitzvah.sinaitemple.org/wp-content/uploads/2018/10/LAZC.jpg
END:VEVENT
END:VCALENDAR