BEGIN:VCALENDAR
VERSION:2.0
PRODID:-//Sinai Temple - Cybermitzvah - ECPv5.16.4//NONSGML v1.0//EN
CALSCALE:GREGORIAN
METHOD:PUBLISH
X-WR-CALNAME:Sinai Temple - Cybermitzvah
X-ORIGINAL-URL:https://cybermitzvah.sinaitemple.org
X-WR-CALDESC:Events for Sinai Temple - Cybermitzvah
BEGIN:VTIMEZONE
TZID:America/Los_Angeles
BEGIN:DAYLIGHT
TZOFFSETFROM:-0800
TZOFFSETTO:-0700
TZNAME:PDT
DTSTART:20180311T100000
END:DAYLIGHT
BEGIN:STANDARD
TZOFFSETFROM:-0700
TZOFFSETTO:-0800
TZNAME:PST
DTSTART:20181104T090000
END:STANDARD
END:VTIMEZONE
BEGIN:VEVENT
DTSTART;TZID=America/Los_Angeles:20181026T174800
DTEND;TZID=America/Los_Angeles:20181026T174800
DTSTAMP:20260419T045948
CREATED:20181009T233204Z
LAST-MODIFIED:20181009T233204Z
UID:556-1540576080-1540576080@cybermitzvah.sinaitemple.org
SUMMARY:Candle Lighting
DESCRIPTION:
URL:https://cybermitzvah.sinaitemple.org/event/candle-lighting/
END:VEVENT
END:VCALENDAR